BEGIN:VCALENDAR
VERSION:2.0
PRODID:-//Plone.org//NONSGML plone.app.event//EN
X-WR-TIMEZONE:Europe/Brussels
BEGIN:VEVENT
SUMMARY:ESCAPE ŒUFS
DTSTART;VALUE=DATE:20260405
DTEND;VALUE=DATE:20260407
DTSTAMP:20260423T193823Z
UID:79cf66e70d4548fb9fd43eb10467ef2a@www.boisdulucmmdd.be
CREATED:20260202T100333Z
LAST-MODIFIED:20260423T135851Z
URL:https://www.boisdulucmmdd.be/fr/activites/evenements/passes/escape-oeu
 fs
END:VEVENT
END:VCALENDAR
